BEGIN:VCALENDAR
VERSION:2.0
PRODID:spatie/icalendar-generator
DESCRIPTION:Veranstaltungen von Evangelische Kirchengemeinde An der Wipper
X-WR-CALDESC:Veranstaltungen von Evangelische Kirchengemeinde An der Wipper
REFRESH-INTERVAL;VALUE=DURATION:PT1440M
X-PUBLISHED-TTL:PT1440M
BEGIN:VTIMEZONE
TZID:Etc/GMT+0
BEGIN:STANDARD
DTSTART:20250705T193000Z
TZOFFSETFROM:+0000
TZOFFSETTO:+0000
END:STANDARD
END:VTIMEZONE
BEGIN:VTIMEZONE
TZID:UTC
BEGIN:STANDARD
DTSTART:20250723T135158Z
TZOFFSETFROM:+0000
TZOFFSETTO:+0000
END:STANDARD
END:VTIMEZONE
BEGIN:VEVENT
UID:146-89
DTSTAMP:20260419T135158Z
SUMMARY:Chor Canto
LOCATION:Gemeindehaus Wipperfürth Lüdenscheider Str. 17  Wipperfürth  51
 688
ORGANIZER;CN=kgmw_admin:MAILTO:wipperfuerth@ekir.de
RRULE:FREQ=WEEKLY;UNTIL=20261231T000000Z
DTSTART;TZID=Etc/GMT+0:20260401T193000
DTEND;TZID=Etc/GMT+0:20260401T210000
X-ALT-DESC;FMTTYPE=TEXT/HTML:Chorprobe
CATEGORIES:Chor
URL;VALUE=URI:https://kirche-wipper.de/mc-events/chor-canto/?mc_id=146
METHOD:PUBLISH
END:VEVENT
END:VCALENDAR