BEGIN:VCALENDAR
VERSION:2.0
PRODID:spatie/icalendar-generator
DESCRIPTION:Veranstaltungen von Evangelische Kirchengemeinde An der Wipper
X-WR-CALDESC:Veranstaltungen von Evangelische Kirchengemeinde An der Wipper
REFRESH-INTERVAL;VALUE=DURATION:PT1440M
X-PUBLISHED-TTL:PT1440M
BEGIN:VTIMEZONE
TZID:Etc/GMT+0
BEGIN:STANDARD
DTSTART:20250223T090000Z
TZOFFSETFROM:+0000
TZOFFSETTO:+0000
END:STANDARD
END:VTIMEZONE
BEGIN:VTIMEZONE
TZID:UTC
BEGIN:STANDARD
DTSTART:20250723T163355Z
TZOFFSETFROM:+0000
TZOFFSETTO:+0000
END:STANDARD
END:VTIMEZONE
BEGIN:VEVENT
UID:314-97
DTSTAMP:20260419T163355Z
SUMMARY:Gemeindefrühstück Klaswipper
LOCATION:Gemeindehaus Klaswipper Klaswipper 12  Wipperfürth  51688
ORGANIZER;CN=kgmw_admin:MAILTO:wipperfuerth@ekir.de
RRULE:FREQ=MONTHLY;BYDAY=3TH;UNTIL=20261231T000000Z
DTSTART;TZID=Etc/GMT+0:20251120T090000
DTEND;TZID=Etc/GMT+0:20251120T113000
X-ALT-DESC;FMTTYPE=TEXT/HTML:
CATEGORIES:Gemeindehaus Klaswipper
URL;VALUE=URI:https://kirche-wipper.de/mc-events/gemeindefruehstueck-klaswi
 pper/?mc_id=314
METHOD:PUBLISH
END:VEVENT
END:VCALENDAR