BEGIN:VCALENDAR
VERSION:2.0
PRODID:spatie/icalendar-generator
DESCRIPTION:Veranstaltungen von Evangelische Kirchengemeinde An der Wipper
X-WR-CALDESC:Veranstaltungen von Evangelische Kirchengemeinde An der Wipper
REFRESH-INTERVAL;VALUE=DURATION:PT1440M
X-PUBLISHED-TTL:PT1440M
BEGIN:VTIMEZONE
TZID:Etc/GMT+0
BEGIN:STANDARD
DTSTART:20250706T180000Z
TZOFFSETFROM:+0000
TZOFFSETTO:+0000
END:STANDARD
END:VTIMEZONE
BEGIN:VTIMEZONE
TZID:UTC
BEGIN:STANDARD
DTSTART:20250723T151953Z
TZOFFSETFROM:+0000
TZOFFSETTO:+0000
END:STANDARD
END:VTIMEZONE
BEGIN:VEVENT
UID:421-141
DTSTAMP:20260419T151953Z
SUMMARY:Gottesdienst
LOCATION:
ORGANIZER;CN=Olivia Klemm:MAILTO:olivia.klemm@ekir.de
DTSTART;TZID=Etc/GMT+0:20260402T180000
DTEND;TZID=Etc/GMT+0:20260402T190000
X-ALT-DESC;FMTTYPE=TEXT/HTML:Gründonnerstag Liturgische Feier mit anschlie
 ßendem Abendessen
CATEGORIES:Gemeindehaus Klaswipper
URL;VALUE=URI:https://kirche-wipper.de/mc-events/gottesdienst-13/
METHOD:PUBLISH
END:VEVENT
END:VCALENDAR