BEGIN:VCALENDAR
VERSION:2.0
PRODID:spatie/icalendar-generator
DESCRIPTION:Veranstaltungen von Evangelische Kirchengemeinde An der Wipper
X-WR-CALDESC:Veranstaltungen von Evangelische Kirchengemeinde An der Wipper
REFRESH-INTERVAL;VALUE=DURATION:PT1440M
X-PUBLISHED-TTL:PT1440M
BEGIN:VTIMEZONE
TZID:Etc/GMT+0
BEGIN:STANDARD
DTSTART:20250707T100000Z
TZOFFSETFROM:+0000
TZOFFSETTO:+0000
END:STANDARD
END:VTIMEZONE
BEGIN:VTIMEZONE
TZID:UTC
BEGIN:STANDARD
DTSTART:20250723T145728Z
TZOFFSETFROM:+0000
TZOFFSETTO:+0000
END:STANDARD
END:VTIMEZONE
BEGIN:VEVENT
UID:424-142
DTSTAMP:20260419T145728Z
SUMMARY:Gottesdienst mit Chor Canto
LOCATION:Kirche am Markt Marktplatz 11  Wipperfürth  51688
ORGANIZER;CN=Olivia Klemm:MAILTO:olivia.klemm@ekir.de
DTSTART;TZID=Etc/GMT+0:20260403T100000
DTEND;TZID=Etc/GMT+0:20260403T110000
X-ALT-DESC;FMTTYPE=TEXT/HTML:Gottesdienst mit Abendmahl
CATEGORIES:Kirche am Markt,  Gottesdienst mit Abendmahl
URL;VALUE=URI:https://kirche-wipper.de/mc-events/gottesdienst-mit-chor-cant
 o/
METHOD:PUBLISH
END:VEVENT
END:VCALENDAR