BEGIN:VCALENDAR
VERSION:2.0
PRODID:spatie/icalendar-generator
DESCRIPTION:Veranstaltungen von Evangelische Kirchengemeinde An der Wipper
X-WR-CALDESC:Veranstaltungen von Evangelische Kirchengemeinde An der Wipper
REFRESH-INTERVAL;VALUE=DURATION:PT1440M
X-PUBLISHED-TTL:PT1440M
BEGIN:VTIMEZONE
TZID:Etc/GMT+0
BEGIN:STANDARD
DTSTART:20250817T110000Z
TZOFFSETFROM:+0000
TZOFFSETTO:+0000
END:STANDARD
END:VTIMEZONE
BEGIN:VTIMEZONE
TZID:UTC
BEGIN:STANDARD
DTSTART:20250723T165153Z
TZOFFSETFROM:+0000
TZOFFSETTO:+0000
END:STANDARD
END:VTIMEZONE
BEGIN:VEVENT
UID:432-151
DTSTAMP:20260419T165153Z
SUMMARY:Gottesdienst
LOCATION:Kirche Klaswipper Klaswipper 35  Wipperfürth  51688
ORGANIZER;CN=Olivia Klemm:MAILTO:olivia.klemm@ekir.de
DTSTART;TZID=Etc/GMT+0:20260514T110000
DTEND;TZID=Etc/GMT+0:20260514T120000
X-ALT-DESC;FMTTYPE=TEXT/HTML:den Gottesdienst an Himmelfahrt hält Friedric
 h Ruhwedel
CATEGORIES:Allgemein
URL;VALUE=URI:https://kirche-wipper.de/mc-events/gottesdienst-16/
METHOD:PUBLISH
END:VEVENT
END:VCALENDAR