BEGIN:VCALENDAR
VERSION:2.0
PRODID:spatie/icalendar-generator
DESCRIPTION:Veranstaltungen von Evangelische Kirchengemeinde An der Wipper
X-WR-CALDESC:Veranstaltungen von Evangelische Kirchengemeinde An der Wipper
REFRESH-INTERVAL;VALUE=DURATION:PT1440M
X-PUBLISHED-TTL:PT1440M
BEGIN:VTIMEZONE
TZID:Etc/GMT+0
BEGIN:STANDARD
DTSTART:20250710T110000Z
TZOFFSETFROM:+0000
TZOFFSETTO:+0000
END:STANDARD
END:VTIMEZONE
BEGIN:VTIMEZONE
TZID:UTC
BEGIN:STANDARD
DTSTART:20250723T134956Z
TZOFFSETFROM:+0000
TZOFFSETTO:+0000
END:STANDARD
END:VTIMEZONE
BEGIN:VEVENT
UID:425-144
DTSTAMP:20260419T134956Z
SUMMARY:Familiengottesdienst
LOCATION:Kirche Klaswipper Klaswipper 35  Wipperfürth  51688
ORGANIZER;CN=Olivia Klemm:MAILTO:olivia.klemm@ekir.de
DTSTART;TZID=Etc/GMT+0:20260406T110000
DTEND;TZID=Etc/GMT+0:20260406T120000
X-ALT-DESC;FMTTYPE=TEXT/HTML:Familiengottesdienst mit der Kita Klaswipper u
 nd anschließendem Ostereiersuchen
CATEGORIES:Kirche Klaswipper
URL;VALUE=URI:https://kirche-wipper.de/mc-events/familiengottesdienst-3/
METHOD:PUBLISH
END:VEVENT
END:VCALENDAR