BEGIN:VCALENDAR
VERSION:2.0
PRODID:spatie/icalendar-generator
DESCRIPTION:Veranstaltungen von Evangelische Kirchengemeinde An der Wipper
X-WR-CALDESC:Veranstaltungen von Evangelische Kirchengemeinde An der Wipper
REFRESH-INTERVAL;VALUE=DURATION:PT1440M
X-PUBLISHED-TTL:PT1440M
BEGIN:VTIMEZONE
TZID:Etc/GMT+0
BEGIN:STANDARD
DTSTART:20250730T100000Z
TZOFFSETFROM:+0000
TZOFFSETTO:+0000
END:STANDARD
END:VTIMEZONE
BEGIN:VTIMEZONE
TZID:UTC
BEGIN:STANDARD
DTSTART:20250723T152250Z
TZOFFSETFROM:+0000
TZOFFSETTO:+0000
END:STANDARD
END:VTIMEZONE
BEGIN:VEVENT
UID:429-148
DTSTAMP:20260419T152250Z
SUMMARY:Gottesdienst \"Jubilate\"
LOCATION:Kirche Klaswipper Klaswipper 35  Wipperfürth  51688
ORGANIZER;CN=Olivia Klemm:MAILTO:olivia.klemm@ekir.de
DTSTART;TZID=Etc/GMT+0:20260426T100000
DTEND;TZID=Etc/GMT+0:20260426T110000
X-ALT-DESC;FMTTYPE=TEXT/HTML:Gottesdienst \"Jubilate\" mit Abendmahl Vorste
 llungsgottesdienst der Konfirmanden mit Konfirmandentaufe
CATEGORIES:Kirche Klaswipper,  Gottesdienst mit Abendmahl
URL;VALUE=URI:https://kirche-wipper.de/mc-events/gottesdienst-jubilate/
METHOD:PUBLISH
END:VEVENT
END:VCALENDAR